Workbook

Sheet Instruction
A1: Accredited Checker Value Articulation Framework | D1: version 1.0 | E1: 46266
A5: Development Revision
A7: Date | B7: Vers | C7: Development Revision | D7: By | E7: Remark
A8: 16.09.2026 | B8: 0.1 | C8: Initial Draft shared with BCA | D8: JSN | E8: For feedback
A9: 19.09.2027 | B9: 0.2 | C9: Revision to be shared with BCA | D9: JSN | E9: For final feedback

Sheet Project Data
B2: Description | C2: Sub Item | D2: Input | E2: Notes
H3: REF | I3: Approved Use of Development - Definition
B4: Project Detail | C4: Project Name | D4: HDB Rediential Block Development
C5: Client | D5: HDB
C6: Project Period | D6: Jan 2027-Jan 2030
C7: Complexity | D7: Medium | E7: Low, Medium, High
B8: Total GFA (m2) | D8: 60000
B9: Site Area (m2) | D9: 100000
B11: Project Type | C11: Residential (Public or Private) | E11: Public
B12: (ref to BCA Defn) | C12: Commercial (Office, Retail, Hotel)
C13: Industrial
C14: Institution (Civic & Community, Sports & Recreation)
C15: Healthcare & Medical Care
C16: Infrastructure
C17: Utility
C18: Addition & Alteration
C19: Asset Enhancement
B21: Contract Type | C21: Engineer's Design
C22: Design & Build
C23: Develop and Construct
B25: Project Stages & Duration | C25: 0 - Project Mobilisation | D25: 4
B26: (in months) | C26: 1 -Overall Design Review Task | D26: 9
B27: (include contingency) | C27: 2 - Foundation Design | D27: 17 | E27: AC Checklist
C28: 3 - Building Structural System | D28: 20 | E28: AC Checklist
C29: 4 - Building with Specialised Structures | D29: 32 | E29: AC Checklist
C30: 5 - Earth Retaining Structures | D30: 11 | E30: AC Checklist
C31: 6 - Specific Structural Elements | D31: 11 | E31: AC Checklist
B33: Manday Rates | C33: ='AC VAF Low C'!B118 -> Director / Principal
C34: ='AC VAF Low C'!B119 -> Accredited Checker (if not director)
C35: ='AC VAF Low C'!B120 -> Senior Associate Director
C36: ='AC VAF Low C'!B121 -> Associate Director
C37: ='AC VAF Low C'!B122 -> Senior Professional Staff (>10yrs)
C38: ='AC VAF Low C'!B123 -> Professional Staff (<10yrs)

Sheet AC VAF Low C
B1: Accredited Checker (AC) Value Articulation Framework (VAF) | F1: version 0.2
B3: Project | D3: XYZ Project | E3: By | F3: Er ACES
B4: Client | D4: ='Project Data'!D5 -> HDB | E4: Date | F4: 46266
B5: Period | D5: ='Project Data'!D6 -> Jan 2027-Jan 2030
B6: Category of Project | D6: Low - 2 blocks of 14 storey HDB Flat with 1 MSCP
H7: Program Unit | I7: Hours | J7: Resource Unit | M7: Days
B8: Project Stages | D8: Tasks / Remarks | E8: BCA Items of Services - Milestone (Reference to SCA) | H8: Budget | I8: Programme | J8: Resources (Hours, Days, Weeks) | T8: Remarks
B9: Stage | C9: Sub-stage | D9: Tasks / Remarks | E9: ID | F9: BCA Payment Milestone / Tasks | G9: % fee | H9: % of fee | I9: =I7 -> Hours | J9: Director / Principal | K9: Accredited Checker (if not director) | L9: Senior Associate Director | M9: Associate Director | N9: Senior Professional Staff (>10yrs) | O9: Professional Staff (<10yrs)
B10: 0 - Project Mobilisation | C10: Project preparation | D10: Project Proposal and Setup including Quality and Verification Plan, Resource Plan, Work Breakdown Structure, Communication Plan | J10: 1 | K10: 1 | L10: 2 | O10: 1
D11: Project team briefing and kick off | J11: 1 | K11: 1 | L11: 2 | O11: 1
D12: Project Risk Assessment and Management plan | J12: 1 | L12: 2 | O12: 1
D13: Finance - Cashflow and invoicing plan | J13: 1 | L13: 2 | O13: 1
B14: 1 - Overall Design Review Tasks | C14: Global Review of the Techincal Approach | D14: Code of Practice | K14: 2 | L14: 2 | O14: 2
D15: Design Loadings
D16: Strucutral Analysis
D17: Stability and Robustness
D18: All Key Structural Elements
D19: Architectural and Structural Drawings
D20: Review of Soil report and Geotechnical Interpretation Report
D21: Expert Reviewer is required
D22: Other Aspects in Design
B23: 2 - Foundation design | C23: Foundation Loads | D23: Appropriate values of dead, live ,wind and notional loads have been used | K23: 1 | L23: 1 | O23: 1
D24: Column loads have been appropriately computed | K24: 1 | L24: 1 | O24: 5
D25: Effects of wind and notional loads on the building or structure have been checked | K25: 1 | L25: 1 | O25: 3
D26: Comparison of the loading computation by the QP & AC has been carried out | K26: 1 | L26: 1 | O26: 2
C27: Piles | D27: Piles have been designed for skin friction and end bearing capacities | K27: 1 | L27: 1 | O27: 5
D28: Piles have been designed for lateral loads and bending moment | K28: 1 | L28: 1 | O28: 2
D29: Pile joints have been designed for
D30: Piles have been designed for uplift | K30: 1 | L30: 1 | O30: 2
D31: Socketings have been designed for piles with short penetration depths
D32: Piles have been designed for negative skin friction | K32: 1 | L32: 1 | O32: 2
D33: Determine design pile settlement for building and impact on the main structures | K33: 1 | L33: 1 | O33: 2
C34: Raft/footing | D34: Appropriate allowable bearing capacity of soil has been assumed in design | K34: 1 | L34: 1 | O34: 2
D35: Appropriate modulus of sub-grade reaction of the soil has been assumed in design
D36: Appropriate model used for structural analysis of the raft with appropriate loadings
D37: The raft has been designed to resist punching shear from columns
D38: The building or structure has been designed to cater for probable differential and total settlement. | K38: 1 | L38: 1 | O38: 2
D39: Review of plate load test results against design soil bearing capacity
B40: 3 - Building / Structural System | C40: Building of less than 30 Storey | D40: Designed for wind loads | K40: 1 | L40: 1 | O40: 10
D41: Designed for notional loads
D42: Stability system has been identified and evaluated to be adequate and robust | K42: 1 | L42: 1 | O42: 5
D43: Designed corewalls and columns to resist lateral loads due to wind and notional loads in both directions
D44: Provided adequate internal and peripheral ties at floor levels | K44: 1 | L44: 1 | O44: 5
D45: Designed for capacities to resist base overturning moment and base shear
D46: Designed for building sway (p-delta effect) | K46: 1 | L46: 1 | O46: 5
C47: Building of more than 30 storey | D47: Designed for wind loads
D48: Designed for notional loads
D49: Stability system has been identified and evaluated to be adequate and robust
D50: Designed corewalls and columns to resist lateral loads due to wind and notional loads in both directions or appropriate directions
D51: Provided adequate internal and peripheral ties at floor levels
D52: Designed for capacities to resist base overturning moment and base shear
D53: Designed for building sway (p-delta effect)
D54: Designed to limit overall lateral deflection of building using 3D modelling
D55: Designed to limit inter-storey drift of building
D56: Columns and walls have been checked for resistance to dynamic effects due to wind on the building
D57: Checked for Requirements for Wind Tunnel Tests
D58: Checked for long term lateral deflection of building under gravity load
D59: Review the serviceability of the building due to dynamic performance
B60: 4 - Building with Specialised Structures | C60: Building with Structural Steel Elements | D60: Designed for bolted and welded connections of supports and member and splice joints | K60: 1 | L60: 1 | O60: 5
D61: Checked for in-plane and out-of-plane stability of frames | K61: 2 | L61: 2 | O61: 5
D62: Designed for bracings and longitudinal ties for overall stability in both directon for both vertical and horizontal planes
D63: Designed for wind load on the building/structure | O63: 5
D64: Designed for lateral stability and torsional rigidity of structural elements and trusses | K64: 1 | L64: 1 | O64: 5
D65: Support conditions assumed in design have been checked against details provided | K65: 1 | L65: 1 | O65: 5
D66: Type of joint connections provided between members are consistent with joint rigidity adopted in the analysis and design | K66: 1 | L66: 1 | O66: 5
C67: Building with Precast Concrete Elements | D67: All joint connections between precast members and precast to in-situ concrete members have been designed for during construction and permanent stages | K67: 1 | L67: 1 | O67: 5
D68: Loading conditions on precast members during erection or construction stage have been considered | K68: 1 | L68: 1 | O68: 2
D69: Sufficient rigidity in the structural frame has been provided for to resist lateral loads
D70: Adequate internal & peripheral ties have been provided in floors | K70: 1 | L70: 1 | O70: 1
D71: All interface shear stresses have been checked | O71: 2
D72: Detailing of precast elements and structural joints have been checked | K72: 1 | L72: 1 | O72: 2
C73: Building with Prestressed Concrete Elements | D73: Maximum prestress force and prestress losses for prestressed elements have been computed according to code requirements
D74: Stresses for elements have been checked at transfer and service stages
D75: Shear capacity has been designed for in prestressed elements
D76: For transfer beams and long span beams, consideration of stage stressing has been made in design
D77: End block design has been checked
D78: Details of prestressed elements, tendon profile, etc. have been checked
C79: Buildings with Complex Structural Systems | D79: Structural system with more than 2 transfer floor levels of which each carrying at least 3 floors; or structural system with cantilever transfer element carrying more than 5 floors
D80: Inclined or curved building (offset of floor plate more than 3m from the edge of the floor above or below)
D81: Structures with unconventional geometry (e.g. dome or arch-shaped)
D82: Large span structures (with span more than 40m) or large cantilever span structures (where cantilever span is more than 8m)
D83: Review construction sequence which may affect the load path
C84: Seismic Consideration | D84: Determine the requirement for seismic consideration based on parameters such as soil type and building type. | L84: 1 | O84: 5
D85: Analysis and design of additional loadcase on seismic requirement | L85: 1 | O85: 5
D86: Review the movement of building under seismic to avoid impounding action | L86: 1 | O86: 5
C88: Buildings with Basements | D88: Basement construction method, i.e. top down construction, semi top down construction, bottom up construction
D89: Proximity to sensitive structures such as underground tunnels or overhead viaduct
D90: Check uplift on basement
D91: Part basement construction with unbalanced lateral forces
D92: Temporary conditions during basement construction affecting permanent design
B93: 5 - Earth Retaining Structures | D93: Geotechnical parameters adopted for design of ERSS are consistent with site investigation report and published literature | K93: 1 | L93: 1 | O93: 5
D94: Analysis using 2D or 3D finite element method for ERSS. Number of sections for analysis in 2D method | K94: 1 | L94: 2 | O94: 10
D95: Structure has been designed to resist overturning , sliding and bearing capacity failure
D96: Structure has been designed to resist slip circle failure
D97: Structure has been designed for onerous soil and water pressure acting on it
D98: Adequate surcharge load has been taken into account in design
D99: ERSS checked for global stability, wall embedment, toe-stability, base heave and hydraulic uplift | K99: 1 | L99: 1 | O99: 5
D100: Opening (service openings in wall), discontinuity in temporary retaining walls has been checked for stability.
D101: Comparison of member forces computation for walls, struts, waler and kingposts by QP & AC has been carried out. | L101: 1 | O101: 2
D102: Impact assessment of ERSS to adjacent structures | K102: 1 | L102: 2 | O102: 5
...

Sheet AC VAF Med C
B1: Accredited Checker (AC) Value Articulation Framework (VAF) | F1: version 0.2
B3: Project | D3: XYZ Project | E3: By | F3: Er ACES
B4: Client | D4: ='Project Data'!D5 -> HDB | E4: Date | F4: 46266
B5: Period | D5: ='Project Data'!D6 -> Jan 2027-Jan 2030
B6: Category of Project | D6: Medium - 3 Blocks of 30 storey HDB Building with 1 MSCP
H7: Program Unit | I7: Hours | J7: Resource Unit | M7: Days
B8: Project Stages | D8: Tasks / Remarks | E8: BCA Items of Services - Milestone (Reference to SCA) | H8: Budget | I8: Programme | J8: Resources (Hours, Days, Weeks) | T8: Remarks
B9: Stage | C9: Sub-stage | D9: Tasks / Remarks | E9: ID | F9: BCA Payment Milestone / Tasks | G9: % fee | H9: % of fee | I9: =I7 -> Hours | J9: Director / Principal | K9: Accredited Checker (if not director) | L9: Senior Associate Director | M9: Associate Director | N9: Senior Professional Staff (>10yrs) | O9: Professional Staff (<10yrs)
B10: 0 - Project Mobilisation | C10: Project preparation | D10: Project Proposal and Setup including Quality and Verification Plan, Resource Plan, Work Breakdown Structure, Communication Plan | J10: 1 | K10: 1 | L10: 2 | N10: 1 | O10: 1
D11: Project team briefing and kick off | J11: 1 | K11: 1 | L11: 2 | N11: 1 | O11: 1
D12: Project Risk Assessment and Management plan | J12: 1 | L12: 2 | N12: 1 | O12: 1
D13: Finance - Cashflow and invoicing plan | J13: 1 | L13: 2 | N13: 1 | O13: 1
B14: 1 - Overall Design Review Tasks | C14: Global Review of the Techincal Approach | D14: Code of Practice | K14: 2 | L14: 2 | N14: 2 | O14: 2
D15: Design Loadings
D16: Strucutral Analysis
D17: Stability and Robustness
D18: All Key Structural Elements
D19: Architectural and Structural Drawings
D20: Review of Soil report and Geotechnical Interpretation Report
D21: Expert Reviewer is required
D22: Other Aspects in Design
B23: 2 - Foundation design | C23: Foundation Loads | D23: Appropriate values of dead, live ,wind and notional loads have been used | K23: 1 | L23: 1 | N23: 2 | O23: 10
D24: Column loads have been appropriately computed | K24: 3 | L24: 3 | N24: 10 | O24: 40
D25: Effects of wind and notional loads on the building or structure have been checked | K25: 1 | L25: 1 | N25: 5 | O25: 15
D26: Comparison of the loading computation by the QP & AC has been carried out | K26: 1 | L26: 1 | N26: 2 | O26: 10
C27: Piles | D27: Piles have been designed for skin friction and end bearing capacities | K27: 2 | L27: 1 | N27: 5 | O27: 15
D28: Piles have been designed for lateral loads and bending moment | K28: 1 | L28: 1 | N28: 2 | O28: 5
D29: Pile joints have been designed for
D30: Piles have been designed for uplift | K30: 1 | L30: 1 | N30: 1 | O30: 5
D31: Socketings have been designed for piles with short penetration depths | K31: 1 | L31: 1 | N31: 1 | O31: 5
D32: Piles have been designed for negative skin friction | K32: 1 | L32: 1 | N32: 1 | O32: 5
D33: Determine design pile settlement for building and impact on the main structures | K33: 1 | L33: 1 | N33: 2 | O33: 5
C34: Raft/footing | D34: Appropriate allowable bearing capacity of soil has been assumed in design | K34: 1 | L34: 2 | N34: 2 | O34: 5
D35: Appropriate modulus of sub-grade reaction of the soil has been assumed in design
D36: Appropriate model used for structural analysis of the raft with appropriate loadings
D37: The raft has been designed to resist punching shear from columns
D38: The building or structure has been designed to cater for probable differential and total settlement. | K38: 1 | L38: 2 | N38: 2 | O38: 5
D39: Review of plate load test results against design soil bearing capacity
B40: 3 - Building / Structural System | C40: Building of less than 30 Storey | D40: Designed for wind loads
D41: Designed for notional loads
D42: Stability system has been identified and evaluated to be adequate and robust
D43: Designed corewalls and columns to resist lateral loads due to wind and notional loads in both directions
D44: Provided adequate internal and peripheral ties at floor levels
D45: Designed for capacities to resist base overturning moment and base shear
D46: Designed for building sway (p-delta effect)
C47: Building of more than 30 storey | D47: Designed for wind loads | K47: 5 | L47: 5 | N47: 10 | O47: 40
D48: Designed for notional loads
D49: Stability system has been identified and evaluated to be adequate and robust | K49: 1 | L49: 1 | N49: 3 | O49: 10
D50: Designed corewalls and columns to resist lateral loads due to wind and notional loads in both directions or appropriate directions | K50: 1 | L50: 1 | N50: 2 | O50: 5
D51: Provided adequate internal and peripheral ties at floor levels | K51: 1 | L51: 1 | N51: 2 | O51: 5
D52: Designed for capacities to resist base overturning moment and base shear | K52: 1 | L52: 1 | N52: 2 | O52: 5
D53: Designed for building sway (p-delta effect) | K53: 1 | L53: 1 | N53: 3 | O53: 10
D54: Designed to limit overall lateral deflection of building using 3D modelling | K54: 3 | L54: 3 | N54: 5 | O54: 10
D55: Designed to limit inter-storey drift of building | K55: 1 | L55: 1 | N55: 1 | O55: 2
D56: Columns and walls have been checked for resistance to dynamic effects due to wind on the building | K56: 1 | L56: 1 | N56: 1 | O56: 5
D57: Checked for Requirements for Wind Tunnel Tests | K57: 1 | L57: 1 | N57: 1 | O57: 5
D58: Checked for long term lateral deflection of building under gravity load | K58: 1 | L58: 1 | N58: 1 | O58: 5
D59: Review the serviceability of the building due to dynamic performance | K59: 2 | L59: 2 | N59: 5 | O59: 5
B60: 4 - Building with Specialised Structures | C60: Building with Structural Steel Elements | D60: Designed for bolted and welded connections of supports and member and splice joints | K60: 1 | L60: 1 | N60: 5 | O60: 10
D61: Checked for in-plane and out-of-plane stability of frames | K61: 1 | L61: 1 | N61: 5 | O61: 10
D62: Designed for bracings and longitudinal ties for overall stability in both directon for both vertical and horizontal planes
D63: Designed for wind load on the building/structure | O63: 2
D64: Designed for lateral stability and torsional rigidity of structural elements and trusses | K64: 1 | L64: 1 | N64: 2 | O64: 5
D65: Support conditions assumed in design have been checked against details provided | K65: 1 | L65: 1 | N65: 1 | O65: 5
D66: Type of joint connections provided between members are consistent with joint rigidity adopted in the analysis and design | K66: 1 | L66: 1 | N66: 1 | O66: 5
C67: Building with Precast Concrete Elements | D67: All joint connections between precast members and precast to in-situ concrete members have been designed for during construction and permanent stages | K67: 2 | L67: 2 | N67: 5 | O67: 15
D68: Loading conditions on precast members during erection or construction stage have been considered | K68: 1 | L68: 1 | N68: 2 | O68: 10
D69: Sufficient rigidity in the structural frame has been provided for to resist lateral loads
D70: Adequate internal & peripheral ties have been provided in floors | K70: 1 | L70: 1 | N70: 2 | O70: 10
D71: All interface shear stresses have been checked | K71: 1 | L71: 1 | N71: 1 | O71: 5
D72: Detailing of precast elements and structural joints have been checked | K72: 1 | L72: 1 | N72: 2 | O72: 10
C73: Building with Prestressed Concrete Elements | D73: Maximum prestress force and prestress losses for prestressed elements have been computed according to code requirements
D74: Stresses for elements have been checked at transfer and service stages
D75: Shear capacity has been designed for in prestressed elements
D76: For transfer beams and long span beams, consideration of stage stressing has been made in design
D77: End block design has been checked
D78: Details of prestressed elements, tendon profile, etc. have been checked
C79: Buildings with Complex Structural Systems | D79: Structural system with more than 2 transfer floor levels of which each carrying at least 3 floors; or structural system with cantilever transfer element carrying more than 5 floors
D80: Inclined or curved building (offset of floor plate more than 3m from the edge of the floor above or below)
D81: Structures with unconventional geometry (e.g. dome or arch-shaped)
D82: Large span structures (with span more than 40m) or large cantilever span structures (where cantilever span is more than 8m)
D83: Review construction sequence which may affect the load path
C84: Seismic Consideration | D84: Determine the requirement for seismic consideration based on parameters such as soil type and building type. | K84: 2 | L84: 2 | N84: 5 | O84: 15
D85: Analysis and design of additional loadcase on seismic requirement | L85: 1 | N85: 2 | O85: 5
D86: Review the movement of building under seismic to avoid impounding action | K86: 1 | L86: 1 | N86: 2 | O86: 5
C88: Buildings with Basements | D88: Basement construction method, i.e. top down construction, semi top down construction, bottom up construction
D89: Proximity to sensitive structures such as underground tunnels or overhead viaduct
D90: Check uplift on basement
D91: Part basement construction with unbalanced lateral forces
D92: Temporary conditions during basement construction affecting permanent design
B93: 5 - Earth Retaining Structures | D93: Geotechnical parameters adopted for design of ERSS are consistent with site investigation report and published literature | K93: 1 | L93: 1 | N93: 3 | O93: 10
D94: Analysis using 2D or 3D finite element method for ERSS. Number of sections for analysis in 2D method | K94: 2 | L94: 2 | N94: 5 | O94: 15
D95: Structure has been designed to resist overturning , sliding and bearing capacity failure
D96: Structure has been designed to resist slip circle failure
D97: Structure has been designed for onerous soil and water pressure acting on it
D98: Adequate surcharge load has been taken into account in design
D99: ERSS checked for global stability, wall embedment, toe-stability, base heave and hydraulic uplift | K99: 1 | L99: 1 | N99: 2 | O99: 10
D100: Opening (service openings in wall), discontinuity in temporary retaining walls has been checked for stability.
D101: Comparison of member forces computation for walls, struts, waler and kingposts by QP & AC has been carried out. | K101: 1 | L101: 1 | N101: 2 | O101: 5
D102: Impact assessment of ERSS to adjacent structures | K102: 2 | L102: 2 | N102: 5 | O102: 15
...

Sheet AC VAF High C
B1: Accredited Checker (AC) Value Articulation Framework (VAF) | F1: version 0.2
B3: Project | D3: XYZ Project | E3: By | F3: Er ACES
B4: Client | D4: ='Project Data'!D5 -> HDB | E4: Date | F4: 46266
B5: Period | D5: ='Project Data'!D6 -> Jan 2027-Jan 2030
B6: Category of Project | D6: High - 5 block of 50 Sotrey HDB Building with 1 MSCP and 1 basement
H7: Program Unit | I7: Hours | J7: Resource Unit | M7: Days
B8: Project Stages | D8: Tasks / Remarks | E8: BCA Items of Services - Milestone (Reference to SCA) | H8: Budget | I8: Programme | J8: Resources (Hours, Days, Weeks) | T8: Remarks
B9: Stage | C9: Sub-stage | D9: Tasks / Remarks | E9: ID | F9: BCA Payment Milestone / Tasks | G9: % fee | H9: % of fee | I9: =I7 -> Hours | J9: Director / Principal | K9: Accredited Checker (if not director) | L9: Senior Associate Director | M9: Associate Director | N9: Senior Professional Staff (>10yrs) | O9: Professional Staff (<10yrs)
B10: 0 - Project Mobilisation | C10: Project preparation | D10: Project Proposal and Setup including Quality and Verification Plan, Resource Plan, Work Breakdown Structure, Communication Plan | J10: 2 | K10: 1 | L10: 2 | M10: 2 | N10: 2 | O10: 2
D11: Project team briefing and kick off | J11: 2 | K11: 1 | L11: 2 | M11: 2 | N11: 2 | O11: 2
D12: Project Risk Assessment and Management plan | J12: 2 | L12: 2 | M12: 2 | N12: 2 | O12: 2
D13: Finance - Cashflow and invoicing plan | J13: 2 | L13: 2 | M13: 2 | N13: 2 | O13: 2
B14: 1 - Overall Design Review Tasks | C14: Global Review of the Techincal Approach | D14: Code of Practice | K14: 2 | L14: 2 | M14: 2 | N14: 2 | O14: 2
D15: Design Loadings | K15: 1 | L15: 1 | M15: 1 | N15: 1 | O15: 1
D16: Strucutral Analysis | K16: 1 | L16: 1 | M16: 1 | N16: 1 | O16: 1
D17: Stability and Robustness
D18: All Key Structural Elements | K18: 2 | L18: 2 | M18: 2 | N18: 2 | O18: 2
D19: Architectural and Structural Drawings
D20: Review of Soil report and Geotechnical Interpretation Report | K20: 2 | L20: 2 | M20: 2 | N20: 2 | O20: 2
D21: Expert Reviewer is required
D22: Other Aspects in Design
B23: 2 - Foundation design | C23: Foundation Loads | D23: Appropriate values of dead, live ,wind and notional loads have been used | K23: 2 | L23: 2 | M23: 5 | N23: 10 | O23: 20
D24: Column loads have been appropriately computed | K24: 5 | L24: 5 | M24: 10 | N24: 25 | O24: 60
D25: Effects of wind and notional loads on the building or structure have been checked | K25: 2 | L25: 2 | M25: 5 | N25: 15 | O25: 30
D26: Comparison of the loading computation by the QP & AC has been carried out | K26: 1 | L26: 1 | M26: 5 | N26: 10 | O26: 20
C27: Piles | D27: Piles have been designed for skin friction and end bearing capacities | K27: 5 | L27: 5 | M27: 10 | N27: 25 | O27: 40
D28: Piles have been designed for lateral loads and bending moment | K28: 1 | L28: 1 | M28: 2 | N28: 5 | O28: 15
D29: Pile joints have been designed for
D30: Piles have been designed for uplift | K30: 1 | L30: 1 | M30: 2 | N30: 5 | O30: 15
D31: Socketings have been designed for piles with short penetration depths | K31: 1 | L31: 1 | M31: 2 | N31: 5 | O31: 15
D32: Piles have been designed for negative skin friction | K32: 1 | L32: 1 | M32: 2 | N32: 5 | O32: 10
D33: Determine design pile settlement for building and impact on the main structures | K33: 1 | L33: 1 | M33: 2 | N33: 5 | O33: 15
C34: Raft/footing | D34: Appropriate allowable bearing capacity of soil has been assumed in design | K34: 2 | L34: 2 | M34: 2 | N34: 5 | O34: 15
D35: Appropriate modulus of sub-grade reaction of the soil has been assumed in design
D36: Appropriate model used for structural analysis of the raft with appropriate loadings
D37: The raft has been designed to resist punching shear from columns
D38: The building or structure has been designed to cater for probable differential and total settlement. | K38: 2 | L38: 2 | M38: 2 | N38: 5 | O38: 15
D39: Review of plate load test results against design soil bearing capacity
B40: 3 - Building / Structural System | C40: Building of less than 30 Storey | D40: Designed for wind loads
D41: Designed for notional loads
D42: Stability system has been identified and evaluated to be adequate and robust
D43: Designed corewalls and columns to resist lateral loads due to wind and notional loads in both directions
D44: Provided adequate internal and peripheral ties at floor levels
D45: Designed for capacities to resist base overturning moment and base shear
D46: Designed for building sway (p-delta effect)
C47: Building of more than 30 storey | D47: Designed for wind loads | K47: 10 | L47: 10 | M47: 20 | N47: 40 | O47: 80
D48: Designed for notional loads
D49: Stability system has been identified and evaluated to be adequate and robust | K49: 2 | L49: 2 | M49: 2 | N49: 5 | O49: 20
D50: Designed corewalls and columns to resist lateral loads due to wind and notional loads in both directions or appropriate directions | K50: 5 | L50: 5 | M50: 10 | N50: 20 | O50: 40
D51: Provided adequate internal and peripheral ties at floor levels | K51: 1 | L51: 1 | M51: 5 | N51: 10 | O51: 20
D52: Designed for capacities to resist base overturning moment and base shear | K52: 1 | L52: 1 | M52: 5 | N52: 10 | O52: 20
D53: Designed for building sway (p-delta effect) | K53: 1 | L53: 1 | M53: 5 | N53: 10 | O53: 20
D54: Designed to limit overall lateral deflection of building using 3D modelling | K54: 3 | L54: 3 | M54: 10 | N54: 10 | O54: 20
D55: Designed to limit inter-storey drift of building | K55: 1 | L55: 1 | M55: 1 | N55: 1 | O55: 5
D56: Columns and walls have been checked for resistance to dynamic effects due to wind on the building | K56: 1 | L56: 1 | M56: 1 | N56: 1 | O56: 5
D57: Checked for Requirements for Wind Tunnel Tests | K57: 1 | L57: 1 | M57: 1 | N57: 1 | O57: 5
D58: Checked for long term lateral deflection of building under gravity load | K58: 1 | L58: 1 | M58: 1 | N58: 1 | O58: 5
D59: Review the serviceability of the building due to dynamic performance | K59: 3 | L59: 3 | M59: 10 | N59: 10 | O59: 20
B60: 4 - Building with Specialised Structures | C60: Building with Structural Steel Elements | D60: Designed for bolted and welded connections of supports and member and splice joints | K60: 1 | L60: 1 | M60: 5 | N60: 10 | O60: 20
D61: Checked for in-plane and out-of-plane stability of frames | K61: 2 | L61: 2 | M61: 10 | N61: 20 | O61: 40
D62: Designed for bracings and longitudinal ties for overall stability in both directon for both vertical and horizontal planes
D63: Designed for wind load on the building/structure | K63: 1 | L63: 1 | M63: 1 | N63: 1 | O63: 5
D64: Designed for lateral stability and torsional rigidity of structural elements and trusses | K64: 5 | L64: 5 | M64: 10 | N64: 15 | O64: 30
D65: Support conditions assumed in design have been checked against details provided | K65: 1 | L65: 1 | M65: 1 | N65: 1 | O65: 5
D66: Type of joint connections provided between members are consistent with joint rigidity adopted in the analysis and design | K66: 1 | L66: 1 | M66: 1 | N66: 1 | O66: 5
C67: Building with Precast Concrete Elements | D67: All joint connections between precast members and precast to in-situ concrete members have been designed for during construction and permanent stages | K67: 2 | L67: 2 | M67: 5 | N67: 15 | O67: 30
D68: Loading conditions on precast members during erection or construction stage have been considered | K68: 1 | L68: 1 | M68: 2 | N68: 5 | O68: 15
D69: Sufficient rigidity in the structural frame has been provided for to resist lateral loads
D70: Adequate internal & peripheral ties have been provided in floors | K70: 2 | L70: 2 | M70: 2 | N70: 5 | O70: 10
D71: All interface shear stresses have been checked | K71: 1 | L71: 1 | M71: 1 | N71: 2 | O71: 5
D72: Detailing of precast elements and structural joints have been checked | K72: 2 | L72: 2 | M72: 5 | N72: 10 | O72: 20
C73: Building with Prestressed Concrete Elements | D73: Maximum prestress force and prestress losses for prestressed elements have been computed according to code requirements
D74: Stresses for elements have been checked at transfer and service stages
D75: Shear capacity has been designed for in prestressed elements
D76: For transfer beams and long span beams, consideration of stage stressing has been made in design
D77: End block design has been checked
D78: Details of prestressed elements, tendon profile, etc. have been checked
C79: Buildings with Complex Structural Systems | D79: Structural system with more than 2 transfer floor levels of which each carrying at least 3 floors; or structural system with cantilever transfer element carrying more than 5 floors
D80: Inclined or curved building (offset of floor plate more than 3m from the edge of the floor above or below)
D81: Structures with unconventional geometry (e.g. dome or arch-shaped)
D82: Large span structures (with span more than 40m) or large cantilever span structures (where cantilever span is more than 8m)
D83: Review construction sequence which may affect the load path
C84: Seismic Consideration | D84: Determine the requirement for seismic consideration based on parameters such as soil type and building type. | K84: 2 | L84: 2 | M84: 5 | N84: 10 | O84: 20
D85: Analysis and design of additional loadcase on seismic requirement | K85: 1 | L85: 1 | M85: 2 | N85: 5 | O85: 10
D86: Review the movement of building under seismic to avoid impounding action | K86: 1 | L86: 1 | M86: 2 | N86: 5 | O86: 10
C88: Buildings with Basements | D88: Basement construction method, i.e. top down construction, semi top down construction, bottom up construction | K88: 5 | L88: 5 | M88: 10 | N88: 15 | O88: 30
D89: Proximity to sensitive structures such as underground tunnels or overhead viaduct | K89: 2 | L89: 2 | M89: 2 | N89: 5 | O89: 10
D90: Check uplift on basement | K90: 1 | L90: 1 | M90: 1 | N90: 2 | O90: 5
D91: Part basement construction with unbalanced lateral forces
D92: Temporary conditions during basement construction affecting permanent design | K92: 2 | L92: 2 | M92: 2 | N92: 5 | O92: 10
B93: 5 - Earth Retaining Structures | D93: Geotechnical parameters adopted for design of ERSS are consistent with site investigation report and published literature | K93: 2 | L93: 2 | M93: 5 | N93: 10 | O93: 20
D94: Analysis using 2D or 3D finite element method for ERSS. Number of sections for analysis in 2D method | K94: 5 | L94: 5 | M94: 10 | N94: 15 | O94: 30
D95: Structure has been designed to resist overturning , sliding and bearing capacity failure
D96: Structure has been designed to resist slip circle failure
D97: Structure has been designed for onerous soil and water pressure acting on it
D98: Adequate surcharge load has been taken into account in design
D99: ERSS checked for global stability, wall embedment, toe-stability, base heave and hydraulic uplift | K99: 2 | L99: 2 | M99: 5 | N99: 10 | O99: 20
D100: Opening (service openings in wall), discontinuity in temporary retaining walls has been checked for stability.
D101: Comparison of member forces computation for walls, struts, waler and kingposts by QP & AC has been carried out. | K101: 2 | L101: 2 | M101: 5 | N101: 10 | O101: 20
D102: Impact assessment of ERSS to adjacent structures | K102: 2 | L102: 2 | M102: 5 | N102: 10 | O102: 20
...
