Workbook

Sheet Instruction
A1: Accredited Checker Value Articulation Framework | D1: version 1.0 | E1: 46266
A5: Development Revision
A7: Date | B7: Vers | C7: Development Revision | D7: By | E7: Remark
A8: 16.09.2026 | B8: 0.1 | C8: Initial Draft shared with BCA | D8: JSN | E8: For feedback
A9: 19.09.2027 | B9: 0.2 | C9: Revision to be shared with BCA | D9: JSN | E9: For final feedback

Sheet Project Data
B2: Description | C2: Sub Item | D2: Input | E2: Notes
H3: REF | I3: Approved Use of Development - Definition
B4: Project Detail | C4: Project Name | D4: HDB Rediential Block Development
C5: Client | D5: HDB
C6: Project Period | D6: Jan 2027-Jan 2030
C7: Complexity | D7: Medium | E7: Low, Medium, High
B8: Total GFA (m2) | D8: 60000
B9: Site Area (m2) | D9: 100000
B11: Project Type | C11: Residential (Public or Private) | E11: Public
B12: (ref to BCA Defn) | C12: Commercial (Office, Retail, Hotel)
C13: Industrial
C14: Institution (Civic & Community, Sports & Recreation)
C15: Healthcare & Medical Care
C16: Infrastructure
C17: Utility
C18: Addition & Alteration
C19: Asset Enhancement
B21: Contract Type | C21: Engineer's Design
C22: Design & Build
C23: Develop and Construct
B25: Project Stages & Duration | C25: 0 - Project Mobilisation | D25: 4
B26: (in months) | C26: 1 -Overall Design Review Task | D26: 9
B27: (include contingency) | C27: 2 - Foundation Design | D27: 17 | E27: AC Checklist
C28: 3 - Building Structural System | D28: 20 | E28: AC Checklist
C29: 4 - Building with Specialised Structures | D29: 32 | E29: AC Checklist
C30: 5 - Earth Retaining Structures | D30: 11 | E30: AC Checklist
C31: 6 - Specific Structural Elements | D31: 11 | E31: AC Checklist
B33: Manday Rates | C33: ='AC VAF Low C'!B118 -> Director / Principal
C34: ='AC VAF Low C'!B119 -> Accredited Checker (if not director)
C35: ='AC VAF Low C'!B120 -> Senior Associate Director
C36: ='AC VAF Low C'!B121 -> Associate Director
C37: ='AC VAF Low C'!B122 -> Senior Professional Staff (>10yrs)
C38: ='AC VAF Low C'!B123 -> Professional Staff (<10yrs)

Sheet AC VAF Low C
B1: Accredited Checker (AC) Value Articulation Framework (VAF) | F1: version 0.2
B3: Project | D3: XYZ Project | E3: By | F3: Er ACES
B4: Client | D4: ='Project Data'!D5 -> HDB | E4: Date | F4: 46266
B5: Period | D5: ='Project Data'!D6 -> Jan 2027-Jan 2030
B6: Category of Project | D6: Low - 2 blocks of 14 storey HDB Flat with 1 MSCP
H7: Program Unit | I7: Hours | J7: Resource Unit | M7: Days
B8: Project Stages | D8: Tasks / Remarks | E8: BCA Items of Services - Milestone (Reference to SCA) | H8: Budget | I8: Programme | J8: Resources (Hours, Days, Weeks) | T8: Remarks
B9: Stage | C9: Sub-stage | D9: Tasks / Remarks | E9: ID | F9: BCA Payment Milestone / Tasks | G9: % fee | H9: % of fee | I9: =I7 -> Hours | J9: Director / Principal | K9: Accredited Checker (if not director) | L9: Senior Associate Director | M9: Associate Director | N9: Senior Professional Staff (>10yrs) | O9: Professional Staff (<10yrs)
B10: 0 - Project Mobilisation | C10: Project preparation | D10: Project Proposal and Setup including Quality and Verification Plan, Resource Plan, Work Breakdown Structure, Communication Plan | J10: 1 | K10: 1 | L10: 2 | O10: 1
D11: Project team briefing and kick off | J11: 1 | K11: 1 | L11: 2 | O11: 1
D12: Project Risk Assessment and Management plan | J12: 1 | L12: 2 | O12: 1
D13: Finance - Cashflow and invoicing plan | J13: 1 | L13: 2 | O13: 1
B14: 1 - Overall Design Review Tasks | C14: Global Review of the Techincal Approach | D14: Code of Practice | K14: 2 | L14: 2 | O14: 2
D15: Design Loadings
D16: Strucutral Analysis
D17: Stability and Robustness
D18: All Key Structural Elements
D19: Architectural and Structural Drawings
D20: Review of Soil report and Geotechnical Interpretation Report
D21: Expert Reviewer is required
D22: Other Aspects in Design
B23: 2 - Foundation design | C23: Foundation Loads | D23: Appropriate values of dead, live ,wind and notional loads have been used | K23: 1 | L23: 1 | O23: 1
D24: Column loads have been appropriately computed | K24: 1 | L24: 1 | O24: 5
D25: Effects of wind and notional loads on the building or structure have been checked | K25: 1 | L25: 1 | O25: 3
D26: Comparison of the loading computation by the QP & AC has been carried out | K26: 1 | L26: 1 | O26: 2
C27: Piles | D27: Piles have been designed for skin friction and end bearing capacities | K27: 1 | L27: 1 | O27: 5
D28: Piles have been designed for lateral loads and bending moment | K28: 1 | L28: 1 | O28: 2
D29: Pile joints have been designed for
D30: Piles have been designed for uplift | K30: 1 | L30: 1 | O30: 2
D31: Socketings have been designed for piles with short penetration depths
D32: Piles have been designed for negative skin friction | K32: 1 | L32: 1 | O32: 2
D33: Determine design pile settlement for building and impact on the main structures | K33: 1 | L33: 1 | O33: 2
C34: Raft/footing | D34: Appropriate allowable bearing capacity of soil has been assumed in design | K34: 1 | L34: 1 | O34: 2
D35: Appropriate modulus of sub-grade reaction of the soil has been assumed in design
D36: Appropriate model used for structural analysis of the raft with appropriate loadings
D37: The raft has been designed to resist punching shear from columns
D38: The building or structure has been designed to cater for probable differential and total settlement. | K38: 1 | L38: 1 | O38: 2
D39: Review of plate load test results against design soil bearing capacity
B40: 3 - Building / Structural System | C40: Building of less than 30 Storey | D40: Designed for wind loads | K40: 1 | L40: 1 | O40: 10
D41: Designed for notional loads
...

Sheet AC VAF Med C
B1: Accredited Checker (AC) Value Articulation Framework (VAF) | F1: version 0.2
B3: Project | D3: XYZ Project | E3: By | F3: Er ACES
B4: Client | D4: ='Project Data'!D5 -> HDB | E4: Date | F4: 46266
B5: Period | D5: ='Project Data'!D6 -> Jan 2027-Jan 2030
B6: Category of Project | D6: Medium - 3 Blocks of 30 storey HDB Building with 1 MSCP
H7: Program Unit | I7: Hours | J7: Resource Unit | M7: Days
B8: Project Stages | D8: Tasks / Remarks | E8: BCA Items of Services - Milestone (Reference to SCA) | H8: Budget | I8: Programme | J8: Resources (Hours, Days, Weeks) | T8: Remarks
B9: Stage | C9: Sub-stage | D9: Tasks / Remarks | E9: ID | F9: BCA Payment Milestone / Tasks | G9: % fee | H9: % of fee | I9: =I7 -> Hours | J9: Director / Principal | K9: Accredited Checker (if not director) | L9: Senior Associate Director | M9: Associate Director | N9: Senior Professional Staff (>10yrs) | O9: Professional Staff (<10yrs)
B10: 0 - Project Mobilisation | C10: Project preparation | D10: Project Proposal and Setup including Quality and Verification Plan, Resource Plan, Work Breakdown Structure, Communication Plan | J10: 1 | K10: 1 | L10: 2 | N10: 1 | O10: 1
D11: Project team briefing and kick off | J11: 1 | K11: 1 | L11: 2 | N11: 1 | O11: 1
D12: Project Risk Assessment and Management plan | J12: 1 | L12: 2 | N12: 1 | O12: 1
D13: Finance - Cashflow and invoicing plan | J13: 1 | L13: 2 | N13: 1 | O13: 1
B14: 1 - Overall Design Review Tasks | C14: Global Review of the Techincal Approach | D14: Code of Practice | K14: 2 | L14: 2 | N14: 2 | O14: 2
D15: Design Loadings
D16: Strucutral Analysis
D17: Stability and Robustness
D18: All Key Structural Elements
D19: Architectural and Structural Drawings
D20: Review of Soil report and Geotechnical Interpretation Report
D21: Expert Reviewer is required
D22: Other Aspects in Design
B23: 2 - Foundation design | C23: Foundation Loads | D23: Appropriate values of dead, live ,wind and notional loads have been used | K23: 1 | L23: 1 | N23: 2 | O23: 10
D24: Column loads have been appropriately computed | K24: 3 | L24: 3 | N24: 10 | O24: 40
D25: Effects of wind and notional loads on the building or structure have been checked | K25: 1 | L25: 1 | N25: 5 | O25: 15
D26: Comparison of the loading computation by the QP & AC has been carried out | K26: 1 | L26: 1 | N26: 2 | O26: 10
C27: Piles | D27: Piles have been designed for skin friction and end bearing capacities | K27: 2 | L27: 1 | N27: 5 | O27: 15
D28: Piles have been designed for lateral loads and bending moment | K28: 1 | L28: 1 | N28: 2 | O28: 5
D29: Pile joints have been designed for
D30: Piles have been designed for uplift | K30: 1 | L30: 1 | N30: 1 | O30: 5
D31: Socketings have been designed for piles with short penetration depths | K31: 1 | L31: 1 | N31: 1 | O31: 5
D32: Piles have been designed for negative skin friction | K32: 1 | L32: 1 | N32: 1 | O32: 5
D33: Determine design pile settlement for building and impact on the main structures | K33: 1 | L33: 1 | N33: 2 | O33: 5
C34: Raft/footing | D34: Appropriate allowable bearing capacity of soil has been assumed in design | K34: 1 | L34: 2 | N34: 2 | O34: 5
D35: Appropriate modulus of sub-grade reaction of the soil has been assumed in design
D36: Appropriate model used for structural analysis of the raft with appropriate loadings
D37: The raft has been designed to resist punching shear from columns
D38: The building or structure has been designed to cater for probable differential and total settlement. | K38: 1 | L38: 2 | N38: 2 | O38: 5
D39: Review of plate load test results against design soil bearing capacity
B40: 3 - Building / Structural System | C40: Building of less than 30 Storey | D40: Designed for wind loads
D41: Designed for notional loads
...

Sheet AC VAF High C
B1: Accredited Checker (AC) Value Articulation Framework (VAF) | F1: version 0.2
B3: Project | D3: XYZ Project | E3: By | F3: Er ACES
B4: Client | D4: ='Project Data'!D5 -> HDB | E4: Date | F4: 46266
B5: Period | D5: ='Project Data'!D6 -> Jan 2027-Jan 2030
B6: Category of Project | D6: High - 5 block of 50 Sotrey HDB Building with 1 MSCP and 1 basement
H7: Program Unit | I7: Hours | J7: Resource Unit | M7: Days
B8: Project Stages | D8: Tasks / Remarks | E8: BCA Items of Services - Milestone (Reference to SCA) | H8: Budget | I8: Programme | J8: Resources (Hours, Days, Weeks) | T8: Remarks
B9: Stage | C9: Sub-stage | D9: Tasks / Remarks | E9: ID | F9: BCA Payment Milestone / Tasks | G9: % fee | H9: % of fee | I9: =I7 -> Hours | J9: Director / Principal | K9: Accredited Checker (if not director) | L9: Senior Associate Director | M9: Associate Director | N9: Senior Professional Staff (>10yrs) | O9: Professional Staff (<10yrs)
B10: 0 - Project Mobilisation | C10: Project preparation | D10: Project Proposal and Setup including Quality and Verification Plan, Resource Plan, Work Breakdown Structure, Communication Plan | J10: 2 | K10: 1 | L10: 2 | M10: 2 | N10: 2 | O10: 2
D11: Project team briefing and kick off | J11: 2 | K11: 1 | L11: 2 | M11: 2 | N11: 2 | O11: 2
D12: Project Risk Assessment and Management plan | J12: 2 | L12: 2 | M12: 2 | N12: 2 | O12: 2
D13: Finance - Cashflow and invoicing plan | J13: 2 | L13: 2 | M13: 2 | N13: 2 | O13: 2
B14: 1 - Overall Design Review Tasks | C14: Global Review of the Techincal Approach | D14: Code of Practice | K14: 2 | L14: 2 | M14: 2 | N14: 2 | O14: 2
D15: Design Loadings | K15: 1 | L15: 1 | M15: 1 | N15: 1 | O15: 1
D16: Strucutral Analysis | K16: 1 | L16: 1 | M16: 1 | N16: 1 | O16: 1
D17: Stability and Robustness
D18: All Key Structural Elements | K18: 2 | L18: 2 | M18: 2 | N18: 2 | O18: 2
D19: Architectural and Structural Drawings
D20: Review of Soil report and Geotechnical Interpretation Report | K20: 2 | L20: 2 | M20: 2 | N20: 2 | O20: 2
D21: Expert Reviewer is required
D22: Other Aspects in Design
B23: 2 - Foundation design | C23: Foundation Loads | D23: Appropriate values of dead, live ,wind and notional loads have been used | K23: 2 | L23: 2 | M23: 5 | N23: 10 | O23: 20
D24: Column loads have been appropriately computed | K24: 5 | L24: 5 | M24: 10 | N24: 25 | O24: 60
D25: Effects of wind and notional loads on the building or structure have been checked | K25: 2 | L25: 2 | M25: 5 | N25: 15 | O25: 30
D26: Comparison of the loading computation by the QP & AC has been carried out | K26: 1 | L26: 1 | M26: 5 | N26: 10 | O26: 20
C27: Piles | D27: Piles have been designed for skin friction and end bearing capacities | K27: 5 | L27: 5 | M27: 10 | N27: 25 | O27: 40
D28: Piles have been designed for lateral loads and bending moment | K28: 1 | L28: 1 | M28: 2 | N28: 5 | O28: 15
D29: Pile joints have been designed for
D30: Piles have been designed for uplift | K30: 1 | L30: 1 | M30: 2 | N30: 5 | O30: 15
D31: Socketings have been designed for piles with short penetration depths | K31: 1 | L31: 1 | M31: 2 | N31: 5 | O31: 15
D32: Piles have been designed for negative skin friction | K32: 1 | L32: 1 | M32: 2 | N32: 5 | O32: 10
D33: Determine design pile settlement for building and impact on the main structures | K33: 1 | L33: 1 | M33: 2 | N33: 5 | O33: 15
C34: Raft/footing | D34: Appropriate allowable bearing capacity of soil has been assumed in design | K34: 2 | L34: 2 | M34: 2 | N34: 5 | O34: 15
D35: Appropriate modulus of sub-grade reaction of the soil has been assumed in design
D36: Appropriate model used for structural analysis of the raft with appropriate loadings
D37: The raft has been designed to resist punching shear from columns
D38: The building or structure has been designed to cater for probable differential and total settlement. | K38: 2 | L38: 2 | M38: 2 | N38: 5 | O38: 15
D39: Review of plate load test results against design soil bearing capacity
B40: 3 - Building / Structural System | C40: Building of less than 30 Storey | D40: Designed for wind loads
D41: Designed for notional loads
...
